BEGIN:VCALENDAR
VERSION:2.0
PRODID:-//Leamington - ECPv6.15.15//NONSGML v1.0//EN
CALSCALE:GREGORIAN
METHOD:PUBLISH
X-WR-CALNAME:Leamington
X-ORIGINAL-URL:https://phab-leamington.co.uk
X-WR-CALDESC:Events for Leamington
REFRESH-INTERVAL;VALUE=DURATION:PT1H
X-Robots-Tag:noindex
X-PUBLISHED-TTL:PT1H
BEGIN:VTIMEZONE
TZID:UTC
BEGIN:STANDARD
TZOFFSETFROM:+0000
TZOFFSETTO:+0000
TZNAME:UTC
DTSTART:20180101T000000
END:STANDARD
END:VTIMEZONE
BEGIN:VEVENT
DTSTART;TZID=UTC:20190307T193000
DTEND;TZID=UTC:20190307T220000
DTSTAMP:20260420T062226
CREATED:20190220T093534Z
LAST-MODIFIED:20190221T101133Z
UID:317-1551987000-1551996000@phab-leamington.co.uk
SUMMARY:Club Night/ Bones Night
DESCRIPTION: 
URL:https://phab-leamington.co.uk/event/club-night-bones-night/
LOCATION:Warwick Space\, 71 Coten End\, Warwick\, Warwickshire\, CV34 4NU\, United Kingdom
END:VEVENT
BEGIN:VEVENT
DTSTART;TZID=UTC:20190314T193000
DTEND;TZID=UTC:20190314T220000
DTSTAMP:20260420T062226
CREATED:20190220T093912Z
LAST-MODIFIED:20190221T095054Z
UID:320-1552591800-1552600800@phab-leamington.co.uk
SUMMARY:Games Night
DESCRIPTION:
URL:https://phab-leamington.co.uk/event/games-night/
LOCATION:Warwick Space\, 71 Coten End\, Warwick\, Warwickshire\, CV34 4NU\, United Kingdom
END:VEVENT
BEGIN:VEVENT
DTSTART;TZID=UTC:20190321T193000
DTEND;TZID=UTC:20190321T220000
DTSTAMP:20260420T062226
CREATED:20190220T094006Z
LAST-MODIFIED:20190221T101039Z
UID:322-1553196600-1553205600@phab-leamington.co.uk
SUMMARY:Skittles Night/ Ten Pin Bowling
DESCRIPTION:More details coming soon.
URL:https://phab-leamington.co.uk/event/skittles-night-ten-pin-bowling/
LOCATION:Tenpin Bowling\, Shires Retail Park\, Tachbrook Park Drive\, Leamington Spa\, Warwickshire\, CV34 6RH\, United Kingdom
END:VEVENT
BEGIN:VEVENT
DTSTART;TZID=UTC:20190328T193000
DTEND;TZID=UTC:20190328T220000
DTSTAMP:20260420T062226
CREATED:20190220T094301Z
LAST-MODIFIED:20190315T144213Z
UID:324-1553801400-1553810400@phab-leamington.co.uk
SUMMARY:Meal at The Heathcote Inn
DESCRIPTION:Meal out at The Heathcote Inn in Whitnash
URL:https://phab-leamington.co.uk/event/meal-at-the-green-man/
LOCATION:The Heathcote Inn\, Tachbrook Road\, Leamington Spa\, CV31 3DG
END:VEVENT
END:VCALENDAR