BEGIN:VCALENDAR
VERSION:2.0
PRODID:-//Leamington - ECPv6.15.15//NONSGML v1.0//EN
CALSCALE:GREGORIAN
METHOD:PUBLISH
X-WR-CALNAME:Leamington
X-ORIGINAL-URL:https://phab-leamington.co.uk
X-WR-CALDESC:Events for Leamington
REFRESH-INTERVAL;VALUE=DURATION:PT1H
X-Robots-Tag:noindex
X-PUBLISHED-TTL:PT1H
BEGIN:VTIMEZONE
TZID:UTC
BEGIN:STANDARD
TZOFFSETFROM:+0000
TZOFFSETTO:+0000
TZNAME:UTC
DTSTART:20180101T000000
END:STANDARD
END:VTIMEZONE
BEGIN:VEVENT
DTSTART;TZID=UTC:20190404T193000
DTEND;TZID=UTC:20190404T220000
DTSTAMP:20260420T044151
CREATED:20190220T094357Z
LAST-MODIFIED:20190401T152403Z
UID:327-1554406200-1554415200@phab-leamington.co.uk
SUMMARY:Club Night
DESCRIPTION:Bees Night
URL:https://phab-leamington.co.uk/event/club-night/
LOCATION:Warwick Space\, 71 Coten End\, Warwick\, Warwickshire\, CV34 4NU\, United Kingdom
END:VEVENT
BEGIN:VEVENT
DTSTART;TZID=UTC:20190411T193000
DTEND;TZID=UTC:20190411T220000
DTSTAMP:20260420T044151
CREATED:20190220T094445Z
LAST-MODIFIED:20190409T151458Z
UID:329-1555011000-1555020000@phab-leamington.co.uk
SUMMARY:Bingo Night
DESCRIPTION:
URL:https://phab-leamington.co.uk/event/bingo-night/
LOCATION:Warwick Space\, 71 Coten End\, Warwick\, Warwickshire\, CV34 4NU\, United Kingdom
END:VEVENT
BEGIN:VEVENT
DTSTART;TZID=UTC:20190418T193000
DTEND;TZID=UTC:20190418T220000
DTSTAMP:20260420T044151
CREATED:20190220T094555Z
LAST-MODIFIED:20190221T095131Z
UID:331-1555615800-1555624800@phab-leamington.co.uk
SUMMARY:Easter Egg Painting & Easter Bonnet Competition
DESCRIPTION:More details coming soon.
URL:https://phab-leamington.co.uk/event/easter-egg-painting-easter-bonnet-competition/
LOCATION:Warwick Space\, 71 Coten End\, Warwick\, Warwickshire\, CV34 4NU\, United Kingdom
END:VEVENT
BEGIN:VEVENT
DTSTART;TZID=UTC:20190425T193000
DTEND;TZID=UTC:20190425T220000
DTSTAMP:20260420T044151
CREATED:20190220T094643Z
LAST-MODIFIED:20190409T151524Z
UID:333-1556220600-1556229600@phab-leamington.co.uk
SUMMARY:Meal at The Hungry Horse
DESCRIPTION:This week we are going out for a meal at The Hungry Horse in Whitnash. More pictures of empty plates and full people to follow!!!!
URL:https://phab-leamington.co.uk/event/meal-at-the-rugby-tavern/
LOCATION:Hungry Horse (Whitnash)\, Poseidon Way\, Whitnash\, Warwick\, CV34 6SW\, United Kingdom
END:VEVENT
END:VCALENDAR