BEGIN:VCALENDAR
VERSION:2.0
PRODID:-//Leamington - ECPv6.15.15//NONSGML v1.0//EN
CALSCALE:GREGORIAN
METHOD:PUBLISH
X-WR-CALNAME:Leamington
X-ORIGINAL-URL:https://phab-leamington.co.uk
X-WR-CALDESC:Events for Leamington
REFRESH-INTERVAL;VALUE=DURATION:PT1H
X-Robots-Tag:noindex
X-PUBLISHED-TTL:PT1H
BEGIN:VTIMEZONE
TZID:Europe/London
BEGIN:DAYLIGHT
TZOFFSETFROM:+0000
TZOFFSETTO:+0100
TZNAME:BST
DTSTART:20180325T010000
END:DAYLIGHT
BEGIN:STANDARD
TZOFFSETFROM:+0100
TZOFFSETTO:+0000
TZNAME:GMT
DTSTART:20181028T010000
END:STANDARD
BEGIN:DAYLIGHT
TZOFFSETFROM:+0000
TZOFFSETTO:+0100
TZNAME:BST
DTSTART:20190331T010000
END:DAYLIGHT
BEGIN:STANDARD
TZOFFSETFROM:+0100
TZOFFSETTO:+0000
TZNAME:GMT
DTSTART:20191027T010000
END:STANDARD
BEGIN:DAYLIGHT
TZOFFSETFROM:+0000
TZOFFSETTO:+0100
TZNAME:BST
DTSTART:20200329T010000
END:DAYLIGHT
BEGIN:STANDARD
TZOFFSETFROM:+0100
TZOFFSETTO:+0000
TZNAME:GMT
DTSTART:20201025T010000
END:STANDARD
END:VTIMEZONE
BEGIN:VEVENT
DTSTART;TZID=Europe/London:20190502T193000
DTEND;TZID=Europe/London:20190502T220000
DTSTAMP:20260420T031751
CREATED:20190402T091806Z
LAST-MODIFIED:20190409T151602Z
UID:616-1556825400-1556834400@phab-leamington.co.uk
SUMMARY:Bowling Night
DESCRIPTION:Lets see which team triumphs this time…..
URL:https://phab-leamington.co.uk/event/bowling-night/
LOCATION:Tenpin Bowling\, Shires Retail Park\, Tachbrook Park Drive\, Leamington Spa\, Warwickshire\, CV34 6RH\, United Kingdom
END:VEVENT
BEGIN:VEVENT
DTSTART;TZID=Europe/London:20190509T193000
DTEND;TZID=Europe/London:20190509T220000
DTSTAMP:20260420T031751
CREATED:20190402T091806Z
LAST-MODIFIED:20190425T130319Z
UID:617-1557430200-1557439200@phab-leamington.co.uk
SUMMARY:Club Night
DESCRIPTION:This will be an Art Evening\, so\, be ready to astound us with your drawing skills….. (or just come anyway and chat)
URL:https://phab-leamington.co.uk/event/club-night-4/
LOCATION:Warwick Space\, 71 Coten End\, Warwick\, Warwickshire\, CV34 4NU\, United Kingdom
END:VEVENT
BEGIN:VEVENT
DTSTART;TZID=Europe/London:20190516T193000
DTEND;TZID=Europe/London:20190516T220000
DTSTAMP:20260420T031751
CREATED:20190402T091806Z
LAST-MODIFIED:20190418T105556Z
UID:618-1558035000-1558044000@phab-leamington.co.uk
SUMMARY:Meal at the Newbold Comyn Arms
DESCRIPTION:This Thursday we are at the Newbold Comyn Arms for a meal
URL:https://phab-leamington.co.uk/event/meal/
LOCATION:Newbold Comyn Arms\, Newbold Terrace East\, Leamington Spa\, Warwickshire\, CV32 4EU
END:VEVENT
BEGIN:VEVENT
DTSTART;TZID=Europe/London:20190522T193000
DTEND;TZID=Europe/London:20190522T213000
DTSTAMP:20260420T031751
CREATED:20190425T130554Z
LAST-MODIFIED:20190503T070536Z
UID:758-1558553400-1558560600@phab-leamington.co.uk
SUMMARY:Commitee Meeting
DESCRIPTION:Our Monthly Commitee Meeting.
URL:https://phab-leamington.co.uk/event/commitee-meeting/
LOCATION:The New Bowling Green\, 13 St Nicholas Church St\, Warwick\, UK\, CV34 4JD
END:VEVENT
BEGIN:VEVENT
DTSTART;TZID=Europe/London:20190523T193000
DTEND;TZID=Europe/London:20190523T220000
DTSTAMP:20260420T031751
CREATED:20190401T162606Z
LAST-MODIFIED:20190523T124713Z
UID:606-1558639800-1558648800@phab-leamington.co.uk
SUMMARY:Drinks and Quiz Night
DESCRIPTION:Due to the European Elections\, we will be meeting at the Windmill for a few drinks and a quiz. So we will reschedule race night for later in the year
URL:https://phab-leamington.co.uk/event/club-night-2/
LOCATION:The Windmill Inn\, Tachbrook Road\, Leamington Spa\, Warwickshire\, CV31 3DD\, United Kingdom
END:VEVENT
BEGIN:VEVENT
DTSTART;VALUE=DATE:20190525
DTEND;VALUE=DATE:20190526
DTSTAMP:20260420T031751
CREATED:20190425T132933Z
LAST-MODIFIED:20190425T133344Z
UID:777-1558742400-1558828799@phab-leamington.co.uk
SUMMARY:Royal Priors - Phab Meet and Greet
DESCRIPTION:We will be at the Royal Priors Shopping Centre today. \nIf you are interested in vounteering or becoming a member\, this is a good opportunity to chat and see what we do.
URL:https://phab-leamington.co.uk/event/royal-priors-phab-meet-and-greet/
LOCATION:The Royal Priors Shopping Centre\, Warwick St\, Leamington Spa\, Warwickshire\, CV32 4XT\, United Kingdom
END:VEVENT
BEGIN:VEVENT
DTSTART;TZID=Europe/London:20190530T193000
DTEND;TZID=Europe/London:20190530T220000
DTSTAMP:20260420T031751
CREATED:20190401T162606Z
LAST-MODIFIED:20190425T131850Z
UID:607-1559244600-1559253600@phab-leamington.co.uk
SUMMARY:Club Night
DESCRIPTION:This will be a Games Night….. settle back and have a relaxing evening with all sorts of board and floor games.
URL:https://phab-leamington.co.uk/event/club-night-3/
LOCATION:Warwick Space\, 71 Coten End\, Warwick\, Warwickshire\, CV34 4NU\, United Kingdom
END:VEVENT
END:VCALENDAR