BEGIN:VCALENDAR
VERSION:2.0
PRODID:-//Leamington - ECPv6.15.15//NONSGML v1.0//EN
CALSCALE:GREGORIAN
METHOD:PUBLISH
X-WR-CALNAME:Leamington
X-ORIGINAL-URL:https://phab-leamington.co.uk
X-WR-CALDESC:Events for Leamington
REFRESH-INTERVAL;VALUE=DURATION:PT1H
X-Robots-Tag:noindex
X-PUBLISHED-TTL:PT1H
BEGIN:VTIMEZONE
TZID:Europe/London
BEGIN:DAYLIGHT
TZOFFSETFROM:+0000
TZOFFSETTO:+0100
TZNAME:BST
DTSTART:20180325T010000
END:DAYLIGHT
BEGIN:STANDARD
TZOFFSETFROM:+0100
TZOFFSETTO:+0000
TZNAME:GMT
DTSTART:20181028T010000
END:STANDARD
BEGIN:DAYLIGHT
TZOFFSETFROM:+0000
TZOFFSETTO:+0100
TZNAME:BST
DTSTART:20190331T010000
END:DAYLIGHT
BEGIN:STANDARD
TZOFFSETFROM:+0100
TZOFFSETTO:+0000
TZNAME:GMT
DTSTART:20191027T010000
END:STANDARD
BEGIN:DAYLIGHT
TZOFFSETFROM:+0000
TZOFFSETTO:+0100
TZNAME:BST
DTSTART:20200329T010000
END:DAYLIGHT
BEGIN:STANDARD
TZOFFSETFROM:+0100
TZOFFSETTO:+0000
TZNAME:GMT
DTSTART:20201025T010000
END:STANDARD
END:VTIMEZONE
BEGIN:VEVENT
DTSTART;VALUE=DATE:20190602
DTEND;VALUE=DATE:20190603
DTSTAMP:20260420T014753
CREATED:20190409T151052Z
LAST-MODIFIED:20190528T073751Z
UID:688-1559433600-1559519999@phab-leamington.co.uk
SUMMARY:PHAB Day Out at Wicksteed Park
DESCRIPTION:This is the annual PHAB UK day out to Wicksteed Park in Kettering. This should be a great day to meet other PHAB members and spend a day in the (Hopefully) warm space of the park…. or sheltering from the rain in a cafe – either way – see you there. \nLeamington Phab have a minibus for the day (from WRCC) \, so we will arrive en masse  for a good day on the rides and meeting other members. \nAll members coming on the minbus will receive their confirmation letter next week…. \nIf you haven’t already said that you are coming\, and can now can make it – just let us know and we will see what we can do.
URL:https://phab-leamington.co.uk/event/phab-day-out-at-wicksteed-park/
LOCATION:Wicksteed Park\, Barton Rd\, Kettering\, Northampton\, NN15 6NJ
END:VEVENT
BEGIN:VEVENT
DTSTART;TZID=Europe/London:20190606T193000
DTEND;TZID=Europe/London:20190606T220000
DTSTAMP:20260420T014753
CREATED:20190402T091806Z
LAST-MODIFIED:20190425T131032Z
UID:619-1559849400-1559858400@phab-leamington.co.uk
SUMMARY:Meal at the Waterside Inn
DESCRIPTION:
URL:https://phab-leamington.co.uk/event/meal-2/
LOCATION:The Waterside Inn\, Queensway\, Leamington SpaLeamington Spa\, Warwick\, CV31 3JZ\, United Kingdom
END:VEVENT
BEGIN:VEVENT
DTSTART;TZID=Europe/London:20190613T193000
DTEND;TZID=Europe/London:20190613T220000
DTSTAMP:20260420T014753
CREATED:20190402T091807Z
LAST-MODIFIED:20190531T075947Z
UID:620-1560454200-1560463200@phab-leamington.co.uk
SUMMARY:Club Night - Special Guest Night
DESCRIPTION:This evening we have the brilliant Anna Turney; \nIn 2006 Anna broke her back snowboard racing\, pushing herself at what she loved best. Determined not to be defeated\, Anna decided to become a Paralympic Ski Racer. \nAfter 3 years training\, Anna came 6th in the 2010 Vancouver Paralympics. Four years later she finished 4th\, 6th and 8th for GB in Britain’s most successful Winter Paralympic Team in the 2014 Sochi Paralympic Games. \nWe are really looking forward to an evening with Anna\, and to soak up some of her positivity..
URL:https://phab-leamington.co.uk/event/club-night-5/
LOCATION:Warwick Space\, 71 Coten End\, Warwick\, Warwickshire\, CV34 4NU\, United Kingdom
END:VEVENT
BEGIN:VEVENT
DTSTART;TZID=Europe/London:20190620T184500
DTEND;TZID=Europe/London:20190620T213000
DTSTAMP:20260420T014753
CREATED:20190402T091809Z
LAST-MODIFIED:20190620T065510Z
UID:621-1561056300-1561066200@phab-leamington.co.uk
SUMMARY:Crazy Golf
DESCRIPTION:Meet at the Crazy Golf in St Nicholas Park\, Warwock at 6:45pm. \nAfter the game\, the winner will be announced\, and we will repair to the New Bowling Green to celebrate.
URL:https://phab-leamington.co.uk/event/crazy-golf/
LOCATION:St Nicholas Park\, St Nicholas Park\, Warwick\, Warwickshire\, CV34 4QY\, United Kingdom
ATTACH;FMTTYPE=image/jpeg:https://phab-leamington.co.uk/wp-content/uploads/2019/06/Crazy-Golf.jpg
END:VEVENT
BEGIN:VEVENT
DTSTART;TZID=Europe/London:20190627T193000
DTEND;TZID=Europe/London:20190627T220000
DTSTAMP:20260420T014753
CREATED:20190402T091809Z
LAST-MODIFIED:20190402T091809Z
UID:622-1561663800-1561672800@phab-leamington.co.uk
SUMMARY:Club Night/ Farrier Night
DESCRIPTION:
URL:https://phab-leamington.co.uk/event/club-night-farrier-night/
LOCATION:Warwick Space\, 71 Coten End\, Warwick\, Warwickshire\, CV34 4NU\, United Kingdom
END:VEVENT
END:VCALENDAR