BEGIN:VCALENDAR
VERSION:2.0
PRODID:-//Leamington - ECPv6.15.15//NONSGML v1.0//EN
CALSCALE:GREGORIAN
METHOD:PUBLISH
X-WR-CALNAME:Leamington
X-ORIGINAL-URL:https://phab-leamington.co.uk
X-WR-CALDESC:Events for Leamington
REFRESH-INTERVAL;VALUE=DURATION:PT1H
X-Robots-Tag:noindex
X-PUBLISHED-TTL:PT1H
BEGIN:VTIMEZONE
TZID:Europe/London
BEGIN:DAYLIGHT
TZOFFSETFROM:+0000
TZOFFSETTO:+0100
TZNAME:BST
DTSTART:20180325T010000
END:DAYLIGHT
BEGIN:STANDARD
TZOFFSETFROM:+0100
TZOFFSETTO:+0000
TZNAME:GMT
DTSTART:20181028T010000
END:STANDARD
BEGIN:DAYLIGHT
TZOFFSETFROM:+0000
TZOFFSETTO:+0100
TZNAME:BST
DTSTART:20190331T010000
END:DAYLIGHT
BEGIN:STANDARD
TZOFFSETFROM:+0100
TZOFFSETTO:+0000
TZNAME:GMT
DTSTART:20191027T010000
END:STANDARD
BEGIN:DAYLIGHT
TZOFFSETFROM:+0000
TZOFFSETTO:+0100
TZNAME:BST
DTSTART:20200329T010000
END:DAYLIGHT
BEGIN:STANDARD
TZOFFSETFROM:+0100
TZOFFSETTO:+0000
TZNAME:GMT
DTSTART:20201025T010000
END:STANDARD
END:VTIMEZONE
BEGIN:VEVENT
DTSTART;TZID=Europe/London:20191107T193000
DTEND;TZID=Europe/London:20191107T220000
DTSTAMP:20260419T180340
CREATED:20190402T091811Z
LAST-MODIFIED:20191018T061010Z
UID:636-1573155000-1573164000@phab-leamington.co.uk
SUMMARY:Club Night - Guy Fawkes Quiz
DESCRIPTION:This evening will be a special presentation (more information later) and then – if there is time – a Guy Fawkes Quiz. \nDefinately not one to miss…
URL:https://phab-leamington.co.uk/event/club-night-10/
LOCATION:Warwick Space\, 71 Coten End\, Warwick\, Warwickshire\, CV34 4NU\, United Kingdom
ATTACH;FMTTYPE=image/jpeg:https://phab-leamington.co.uk/wp-content/uploads/2019/05/Quiz.jpg
END:VEVENT
BEGIN:VEVENT
DTSTART;TZID=Europe/London:20191114T193000
DTEND;TZID=Europe/London:20191114T220000
DTSTAMP:20260419T180340
CREATED:20190402T091812Z
LAST-MODIFIED:20190620T064349Z
UID:637-1573759800-1573768800@phab-leamington.co.uk
SUMMARY:Meal at the White Horse
DESCRIPTION:
URL:https://phab-leamington.co.uk/event/tba-4/
LOCATION:Thee White Horse\, 4 Clarendon Ave\, Leamington Spa\, Warwickshire\, CV32 5PZ\, United Kingdom
ATTACH;FMTTYPE=image/jpeg:https://phab-leamington.co.uk/wp-content/uploads/2019/03/Macarons.jpeg
END:VEVENT
BEGIN:VEVENT
DTSTART;VALUE=DATE:20191116
DTEND;VALUE=DATE:20191117
DTSTAMP:20260419T180340
CREATED:20190425T133400Z
LAST-MODIFIED:20190425T133400Z
UID:782-1573862400-1573948799@phab-leamington.co.uk
SUMMARY:Royal Priors - Phab Meet and Greet
DESCRIPTION:We will be at the Royal Priors Shopping Centre today. \nIf you are interested in vounteering or becoming a member\, this is a good opportunity to chat and see what we do.
URL:https://phab-leamington.co.uk/event/royal-priors-phab-meet-and-greet-2/
LOCATION:The Royal Priors Shopping Centre\, Warwick St\, Leamington Spa\, Warwickshire\, CV32 4XT\, United Kingdom
END:VEVENT
BEGIN:VEVENT
DTSTART;TZID=Europe/London:20191121T193000
DTEND;TZID=Europe/London:20191121T220000
DTSTAMP:20260419T180340
CREATED:20190402T091812Z
LAST-MODIFIED:20190620T064629Z
UID:638-1574364600-1574373600@phab-leamington.co.uk
SUMMARY:Club Night - Games Night
DESCRIPTION:
URL:https://phab-leamington.co.uk/event/club-night-11/
LOCATION:Warwick Space\, 71 Coten End\, Warwick\, Warwickshire\, CV34 4NU\, United Kingdom
ATTACH;FMTTYPE=image/jpeg:https://phab-leamington.co.uk/wp-content/uploads/2019/03/Games-Night.jpg
END:VEVENT
BEGIN:VEVENT
DTSTART;TZID=Europe/London:20191122T160000
DTEND;TZID=Europe/London:20191124T070000
DTSTAMP:20260419T180340
CREATED:20190523T113032Z
LAST-MODIFIED:20190523T113246Z
UID:830-1574438400-1574578800@phab-leamington.co.uk
SUMMARY:Turkey Tinsel Weekend
DESCRIPTION:The Phab Leamington 2019 Turkey Tinsel weekend is being held at The New Ocean Hotel in Weston-Super-Mare. \nWe are planning to arrive on the Friday\, and leave on the Sunday More information here as the event takes shape….
URL:https://phab-leamington.co.uk/event/turkey-tinsel-weekend/
LOCATION:The New Ocean Hotel\, Madeira Cove\, 1-3 Manilla Crescent\, Weston-Super-Mare\, Somerset\, BS23 2BS\, United Kingdom
ATTACH;FMTTYPE=image/jpeg:https://phab-leamington.co.uk/wp-content/uploads/2019/05/Turkey-Tinsel.jpg
END:VEVENT
BEGIN:VEVENT
DTSTART;TZID=Europe/London:20191128T193000
DTEND;TZID=Europe/London:20191128T220000
DTSTAMP:20260419T180340
CREATED:20190402T091812Z
LAST-MODIFIED:20190402T091812Z
UID:639-1574969400-1574978400@phab-leamington.co.uk
SUMMARY:Club Night/ Victorian Evening in Warwick
DESCRIPTION:
URL:https://phab-leamington.co.uk/event/club-night-victorian-evening-in-warwick/
LOCATION:Warwick Space\, 71 Coten End\, Warwick\, Warwickshire\, CV34 4NU\, United Kingdom
END:VEVENT
END:VCALENDAR