BEGIN:VCALENDAR
VERSION:2.0
PRODID:-//Leamington - ECPv6.15.15//NONSGML v1.0//EN
CALSCALE:GREGORIAN
METHOD:PUBLISH
X-WR-CALNAME:Leamington
X-ORIGINAL-URL:https://phab-leamington.co.uk
X-WR-CALDESC:Events for Leamington
REFRESH-INTERVAL;VALUE=DURATION:PT1H
X-Robots-Tag:noindex
X-PUBLISHED-TTL:PT1H
BEGIN:VTIMEZONE
TZID:Europe/London
BEGIN:DAYLIGHT
TZOFFSETFROM:+0000
TZOFFSETTO:+0100
TZNAME:BST
DTSTART:20190331T010000
END:DAYLIGHT
BEGIN:STANDARD
TZOFFSETFROM:+0100
TZOFFSETTO:+0000
TZNAME:GMT
DTSTART:20191027T010000
END:STANDARD
BEGIN:DAYLIGHT
TZOFFSETFROM:+0000
TZOFFSETTO:+0100
TZNAME:BST
DTSTART:20200329T010000
END:DAYLIGHT
BEGIN:STANDARD
TZOFFSETFROM:+0100
TZOFFSETTO:+0000
TZNAME:GMT
DTSTART:20201025T010000
END:STANDARD
BEGIN:DAYLIGHT
TZOFFSETFROM:+0000
TZOFFSETTO:+0100
TZNAME:BST
DTSTART:20210328T010000
END:DAYLIGHT
BEGIN:STANDARD
TZOFFSETFROM:+0100
TZOFFSETTO:+0000
TZNAME:GMT
DTSTART:20211031T010000
END:STANDARD
END:VTIMEZONE
BEGIN:VEVENT
DTSTART;TZID=Europe/London:20200109T193000
DTEND;TZID=Europe/London:20200109T213000
DTSTAMP:20260419T152754
CREATED:20190620T065259Z
LAST-MODIFIED:20190620T065322Z
UID:912-1578598200-1578605400@phab-leamington.co.uk
SUMMARY:First Club Night of 2020
DESCRIPTION:
URL:https://phab-leamington.co.uk/event/first-club-night-of-2020/
LOCATION:Warwick Space\, 71 Coten End\, Warwick\, Warwickshire\, CV34 4NU\, United Kingdom
END:VEVENT
BEGIN:VEVENT
DTSTART;TZID=Europe/London:20200116T193000
DTEND;TZID=Europe/London:20200116T213000
DTSTAMP:20260419T152754
CREATED:20191125T155741Z
LAST-MODIFIED:20191126T092543Z
UID:1074-1579203000-1579210200@phab-leamington.co.uk
SUMMARY:Bingo Night
DESCRIPTION:
URL:https://phab-leamington.co.uk/event/bingo-night-2/
LOCATION:Warwick Space\, 71 Coten End\, Warwick\, Warwickshire\, CV34 4NU\, United Kingdom
END:VEVENT
BEGIN:VEVENT
DTSTART;TZID=Europe/London:20200116T193000
DTEND;TZID=Europe/London:20200116T220000
DTSTAMP:20260419T152754
CREATED:20200116T070107Z
LAST-MODIFIED:20200116T070107Z
UID:1165-1579203000-1579212000@phab-leamington.co.uk
SUMMARY:Meal Out at the Tiltyard
DESCRIPTION:This evening we are at the Tiltyard in Kenilworth.
URL:https://phab-leamington.co.uk/event/meal-out-at-the-tiltyard/
LOCATION:The TiltYard – Kenilworth\, 25 Leyes Lane\, Kenilworth\, Warwickshire\, CV8 2DE\, United Kingdom
ATTACH;FMTTYPE=image/jpeg:https://phab-leamington.co.uk/wp-content/uploads/2019/03/Macarons.jpeg
END:VEVENT
BEGIN:VEVENT
DTSTART;TZID=Europe/London:20200123T193000
DTEND;TZID=Europe/London:20200123T220000
DTSTAMP:20260419T152754
CREATED:20200116T065827Z
LAST-MODIFIED:20200116T071445Z
UID:1163-1579807800-1579816800@phab-leamington.co.uk
SUMMARY:Meal Out at the Royal Horse
DESCRIPTION:Meal out at the Royal Horse in Whitnash.
URL:https://phab-leamington.co.uk/event/meal-out/
LOCATION:Hungry Horse (Whitnash)\, Poseidon Way\, Whitnash\, Warwick\, CV34 6SW\, United Kingdom
ATTACH;FMTTYPE=image/jpeg:https://phab-leamington.co.uk/wp-content/uploads/2019/03/Macarons.jpeg
END:VEVENT
BEGIN:VEVENT
DTSTART;TZID=Europe/London:20200130T193000
DTEND;TZID=Europe/London:20200130T213000
DTSTAMP:20260419T152754
CREATED:20191125T155906Z
LAST-MODIFIED:20200116T071029Z
UID:1076-1580412600-1580419800@phab-leamington.co.uk
SUMMARY:Speaker Evening including a "Brainy Quiz"
DESCRIPTION:Hannah will be presenting and there will be a quiz afterwards – best all stay awake then 🙂
URL:https://phab-leamington.co.uk/event/speaker-evening-including-a-brainy-quiz/
LOCATION:Warwick Space\, 71 Coten End\, Warwick\, Warwickshire\, CV34 4NU\, United Kingdom
ATTACH;FMTTYPE=image/jpeg:https://phab-leamington.co.uk/wp-content/uploads/2019/05/Quiz.jpg
END:VEVENT
END:VCALENDAR