BEGIN:VCALENDAR
VERSION:2.0
PRODID:-//Leamington - ECPv6.15.15//NONSGML v1.0//EN
CALSCALE:GREGORIAN
METHOD:PUBLISH
X-WR-CALNAME:Leamington
X-ORIGINAL-URL:https://phab-leamington.co.uk
X-WR-CALDESC:Events for Leamington
REFRESH-INTERVAL;VALUE=DURATION:PT1H
X-Robots-Tag:noindex
X-PUBLISHED-TTL:PT1H
BEGIN:VTIMEZONE
TZID:Europe/London
BEGIN:DAYLIGHT
TZOFFSETFROM:+0000
TZOFFSETTO:+0100
TZNAME:BST
DTSTART:20190331T010000
END:DAYLIGHT
BEGIN:STANDARD
TZOFFSETFROM:+0100
TZOFFSETTO:+0000
TZNAME:GMT
DTSTART:20191027T010000
END:STANDARD
BEGIN:DAYLIGHT
TZOFFSETFROM:+0000
TZOFFSETTO:+0100
TZNAME:BST
DTSTART:20200329T010000
END:DAYLIGHT
BEGIN:STANDARD
TZOFFSETFROM:+0100
TZOFFSETTO:+0000
TZNAME:GMT
DTSTART:20201025T010000
END:STANDARD
BEGIN:DAYLIGHT
TZOFFSETFROM:+0000
TZOFFSETTO:+0100
TZNAME:BST
DTSTART:20210328T010000
END:DAYLIGHT
BEGIN:STANDARD
TZOFFSETFROM:+0100
TZOFFSETTO:+0000
TZNAME:GMT
DTSTART:20211031T010000
END:STANDARD
END:VTIMEZONE
BEGIN:VEVENT
DTSTART;TZID=Europe/London:20200206T193000
DTEND;TZID=Europe/London:20200206T213000
DTSTAMP:20260419T100013
CREATED:20191125T155958Z
LAST-MODIFIED:20200116T071252Z
UID:1078-1581017400-1581024600@phab-leamington.co.uk
SUMMARY:Karaoke Evening
DESCRIPTION:
URL:https://phab-leamington.co.uk/event/karaoke-evening/
LOCATION:Warwick Space\, 71 Coten End\, Warwick\, Warwickshire\, CV34 4NU\, United Kingdom
ATTACH;FMTTYPE=image/jpeg:https://phab-leamington.co.uk/wp-content/uploads/2019/11/Karaoke.jpg
END:VEVENT
BEGIN:VEVENT
DTSTART;TZID=Europe/London:20200213T193000
DTEND;TZID=Europe/London:20200213T213000
DTSTAMP:20260419T100013
CREATED:20191125T160039Z
LAST-MODIFIED:20200116T071322Z
UID:1080-1581622200-1581629400@phab-leamington.co.uk
SUMMARY:Valentines Quiz
DESCRIPTION:
URL:https://phab-leamington.co.uk/event/valentines-quiz/
LOCATION:Warwick Space\, 71 Coten End\, Warwick\, Warwickshire\, CV34 4NU\, United Kingdom
ATTACH;FMTTYPE=image/jpeg:https://phab-leamington.co.uk/wp-content/uploads/2019/02/hearts.jpg
END:VEVENT
BEGIN:VEVENT
DTSTART;TZID=Europe/London:20200220T193000
DTEND;TZID=Europe/London:20200220T210000
DTSTAMP:20260419T100013
CREATED:20200206T162826Z
LAST-MODIFIED:20200206T162911Z
UID:1187-1582227000-1582232400@phab-leamington.co.uk
SUMMARY:Meal out at the Tiltyard in Kenilworth
DESCRIPTION:This evening we are at the Tiltyard in Kenilworth for a meal out.
URL:https://phab-leamington.co.uk/event/meal-out-art-the-tiltyard-in-kenilworth/
LOCATION:The TiltYard – Kenilworth\, 25 Leyes Lane\, Kenilworth\, Warwickshire\, CV8 2DE\, United Kingdom
ATTACH;FMTTYPE=image/jpeg:https://phab-leamington.co.uk/wp-content/uploads/2019/03/Macarons.jpeg
END:VEVENT
BEGIN:VEVENT
DTSTART;TZID=Europe/London:20200227T193000
DTEND;TZID=Europe/London:20200227T213000
DTSTAMP:20260419T100013
CREATED:20191125T160126Z
LAST-MODIFIED:20200131T161232Z
UID:1082-1582831800-1582839000@phab-leamington.co.uk
SUMMARY:Speaker Evening - St John Ambulance
DESCRIPTION:This evening’s speaker will be from the St Johns Ambulance
URL:https://phab-leamington.co.uk/event/speaker-evening-tbc/
LOCATION:Warwick Space\, 71 Coten End\, Warwick\, Warwickshire\, CV34 4NU\, United Kingdom
ATTACH;FMTTYPE=image/png:https://phab-leamington.co.uk/wp-content/uploads/2019/11/Speaker.png
END:VEVENT
END:VCALENDAR