BEGIN:VCALENDAR
VERSION:2.0
PRODID:-//Leamington - ECPv6.15.15//NONSGML v1.0//EN
CALSCALE:GREGORIAN
METHOD:PUBLISH
X-ORIGINAL-URL:https://phab-leamington.co.uk
X-WR-CALDESC:Events for Leamington
REFRESH-INTERVAL;VALUE=DURATION:PT1H
X-Robots-Tag:noindex
X-PUBLISHED-TTL:PT1H
BEGIN:VTIMEZONE
TZID:Europe/London
BEGIN:DAYLIGHT
TZOFFSETFROM:+0000
TZOFFSETTO:+0100
TZNAME:BST
DTSTART:20240331T010000
END:DAYLIGHT
BEGIN:STANDARD
TZOFFSETFROM:+0100
TZOFFSETTO:+0000
TZNAME:GMT
DTSTART:20241027T010000
END:STANDARD
BEGIN:DAYLIGHT
TZOFFSETFROM:+0000
TZOFFSETTO:+0100
TZNAME:BST
DTSTART:20250330T010000
END:DAYLIGHT
BEGIN:STANDARD
TZOFFSETFROM:+0100
TZOFFSETTO:+0000
TZNAME:GMT
DTSTART:20251026T010000
END:STANDARD
BEGIN:DAYLIGHT
TZOFFSETFROM:+0000
TZOFFSETTO:+0100
TZNAME:BST
DTSTART:20260329T010000
END:DAYLIGHT
BEGIN:STANDARD
TZOFFSETFROM:+0100
TZOFFSETTO:+0000
TZNAME:GMT
DTSTART:20261025T010000
END:STANDARD
END:VTIMEZONE
BEGIN:VEVENT
DTSTART;TZID=Europe/London:20250206T193000
DTEND;TZID=Europe/London:20250206T210000
DTSTAMP:20260422T203505
CREATED:20250102T105405Z
LAST-MODIFIED:20250114T080659Z
UID:2392-1738870200-1738875600@phab-leamington.co.uk
SUMMARY:Valentines Quiz
DESCRIPTION:Yes folks is the first Quiz of 2025 – and this is a Valentines one
URL:https://phab-leamington.co.uk/event/valentines-quiz-4/
LOCATION:Warwick Space\, 71 Coten End\, Warwick\, Warwickshire\, CV34 4NU\, United Kingdom
ATTACH;FMTTYPE=image/jpeg:https://phab-leamington.co.uk/wp-content/uploads/2019/05/Quiz.jpg
END:VEVENT
BEGIN:VEVENT
DTSTART;TZID=Europe/London:20250213T193000
DTEND;TZID=Europe/London:20250213T210000
DTSTAMP:20260422T203505
CREATED:20250102T105255Z
LAST-MODIFIED:20250114T080724Z
UID:2390-1739475000-1739480400@phab-leamington.co.uk
SUMMARY:Ten Pin Bowling
DESCRIPTION:Yes its back… Ten pin Bowling \nlets see which team wins….
URL:https://phab-leamington.co.uk/event/ten-pin-bowling-5/
LOCATION:Tenpin Bowling\, Shires Retail Park\, Tachbrook Park Drive\, Leamington Spa\, Warwickshire\, CV34 6RH\, United Kingdom
ATTACH;FMTTYPE=image/jpeg:https://phab-leamington.co.uk/wp-content/uploads/2019/03/Bowling.jpg
END:VEVENT
BEGIN:VEVENT
DTSTART;TZID=Europe/London:20250220T193000
DTEND;TZID=Europe/London:20250220T210000
DTSTAMP:20260422T203505
CREATED:20250102T105528Z
LAST-MODIFIED:20250203T091604Z
UID:2394-1740079800-1740085200@phab-leamington.co.uk
SUMMARY:Meal Out at the Windmill
DESCRIPTION:Tonight we are at the Windmill\, our favourite….
URL:https://phab-leamington.co.uk/event/meal-out-at-the-tiltyard-3/
LOCATION:The Windmill Inn\, Tachbrook Road\, Leamington Spa\, Warwickshire\, CV31 3DD\, United Kingdom
ATTACH;FMTTYPE=image/jpeg:https://phab-leamington.co.uk/wp-content/uploads/2019/03/Macarons.jpeg
END:VEVENT
BEGIN:VEVENT
DTSTART;TZID=Europe/London:20250227T193000
DTEND;TZID=Europe/London:20250227T210000
DTSTAMP:20260422T203505
CREATED:20250102T105656Z
LAST-MODIFIED:20250102T105656Z
UID:2396-1740684600-1740690000@phab-leamington.co.uk
SUMMARY:Club Night
DESCRIPTION:Tonight is a club night\, lets see what we do…
URL:https://phab-leamington.co.uk/event/club-night-36/
LOCATION:Warwick Space\, 71 Coten End\, Warwick\, Warwickshire\, CV34 4NU\, United Kingdom
ATTACH;FMTTYPE=image/png:https://phab-leamington.co.uk/wp-content/uploads/2023/06/white-on-blue-circle-digital_.png
END:VEVENT
END:VCALENDAR