BEGIN:VCALENDAR
VERSION:2.0
PRODID:-//Leamington - ECPv6.15.15//NONSGML v1.0//EN
CALSCALE:GREGORIAN
METHOD:PUBLISH
X-ORIGINAL-URL:https://phab-leamington.co.uk
X-WR-CALDESC:Events for Leamington
REFRESH-INTERVAL;VALUE=DURATION:PT1H
X-Robots-Tag:noindex
X-PUBLISHED-TTL:PT1H
BEGIN:VTIMEZONE
TZID:Europe/London
BEGIN:DAYLIGHT
TZOFFSETFROM:+0000
TZOFFSETTO:+0100
TZNAME:BST
DTSTART:20240331T010000
END:DAYLIGHT
BEGIN:STANDARD
TZOFFSETFROM:+0100
TZOFFSETTO:+0000
TZNAME:GMT
DTSTART:20241027T010000
END:STANDARD
BEGIN:DAYLIGHT
TZOFFSETFROM:+0000
TZOFFSETTO:+0100
TZNAME:BST
DTSTART:20250330T010000
END:DAYLIGHT
BEGIN:STANDARD
TZOFFSETFROM:+0100
TZOFFSETTO:+0000
TZNAME:GMT
DTSTART:20251026T010000
END:STANDARD
BEGIN:DAYLIGHT
TZOFFSETFROM:+0000
TZOFFSETTO:+0100
TZNAME:BST
DTSTART:20260329T010000
END:DAYLIGHT
BEGIN:STANDARD
TZOFFSETFROM:+0100
TZOFFSETTO:+0000
TZNAME:GMT
DTSTART:20261025T010000
END:STANDARD
END:VTIMEZONE
BEGIN:VEVENT
DTSTART;TZID=Europe/London:20250306T193000
DTEND;TZID=Europe/London:20250306T213000
DTSTAMP:20260422T071457
CREATED:20250102T105839Z
LAST-MODIFIED:20250306T072937Z
UID:2398-1741289400-1741296600@phab-leamington.co.uk
SUMMARY:Table Tennis and Pool Tournament
DESCRIPTION:Yes folks…. time for the annual Leamington Phab Tournament… \nTable Tennis and Pool trophies up for grabs !!!! \nAnd as an added bonus\, Dave Skinner – The Lord Mayor – will be in attendance as this is our 50th Year.
URL:https://phab-leamington.co.uk/event/table-tennis-and-pool-tournament-2/
LOCATION:Warwick Space\, 71 Coten End\, Warwick\, Warwickshire\, CV34 4NU\, United Kingdom
ATTACH;FMTTYPE=image/jpeg:https://phab-leamington.co.uk/wp-content/uploads/2019/04/Table-Tennis.jpg
END:VEVENT
BEGIN:VEVENT
DTSTART;TZID=Europe/London:20250313T193000
DTEND;TZID=Europe/London:20250313T210000
DTSTAMP:20260422T071457
CREATED:20250102T105947Z
LAST-MODIFIED:20250102T105947Z
UID:2400-1741894200-1741899600@phab-leamington.co.uk
SUMMARY:Hoy Night
DESCRIPTION:Tonight is a Hoy night \nPrizes galore !!
URL:https://phab-leamington.co.uk/event/hoy-night-3/
LOCATION:Warwick Space\, 71 Coten End\, Warwick\, Warwickshire\, CV34 4NU\, United Kingdom
ATTACH;FMTTYPE=image/png:https://phab-leamington.co.uk/wp-content/uploads/2021/10/Hoy.png
END:VEVENT
BEGIN:VEVENT
DTSTART;TZID=Europe/London:20250320T193000
DTEND;TZID=Europe/London:20250320T210000
DTSTAMP:20260422T071457
CREATED:20250102T110110Z
LAST-MODIFIED:20250203T091638Z
UID:2402-1742499000-1742504400@phab-leamington.co.uk
SUMMARY:Meal out at the Newbold Comyn Arms
DESCRIPTION:We are going to the Newbold Comyn arms tonight\, we haven’t been here for a while. \n 
URL:https://phab-leamington.co.uk/event/meal-oit-at-the-newbold-comyn-arma/
LOCATION:Newbold Comyn Arms\, Newbold Terrace East\, Leamington Spa\, Warwickshire\, CV32 4EU
ATTACH;FMTTYPE=image/jpeg:https://phab-leamington.co.uk/wp-content/uploads/2019/03/Macarons.jpeg
END:VEVENT
BEGIN:VEVENT
DTSTART;TZID=Europe/London:20250327T193000
DTEND;TZID=Europe/London:20250327T210000
DTSTAMP:20260422T071457
CREATED:20250102T110159Z
LAST-MODIFIED:20250102T110159Z
UID:2404-1743103800-1743109200@phab-leamington.co.uk
SUMMARY:Club Night
DESCRIPTION:Tonight is a club night
URL:https://phab-leamington.co.uk/event/club-night-37/
LOCATION:Warwick Space\, 71 Coten End\, Warwick\, Warwickshire\, CV34 4NU\, United Kingdom
ATTACH;FMTTYPE=image/png:https://phab-leamington.co.uk/wp-content/uploads/2023/06/white-on-blue-circle-digital_.png
END:VEVENT
END:VCALENDAR