BEGIN:VCALENDAR
VERSION:2.0
PRODID:-//Leamington - ECPv6.15.15//NONSGML v1.0//EN
CALSCALE:GREGORIAN
METHOD:PUBLISH
X-WR-CALNAME:Leamington
X-ORIGINAL-URL:https://phab-leamington.co.uk
X-WR-CALDESC:Events for Leamington
REFRESH-INTERVAL;VALUE=DURATION:PT1H
X-Robots-Tag:noindex
X-PUBLISHED-TTL:PT1H
BEGIN:VTIMEZONE
TZID:Europe/London
BEGIN:DAYLIGHT
TZOFFSETFROM:+0000
TZOFFSETTO:+0100
TZNAME:BST
DTSTART:20240331T010000
END:DAYLIGHT
BEGIN:STANDARD
TZOFFSETFROM:+0100
TZOFFSETTO:+0000
TZNAME:GMT
DTSTART:20241027T010000
END:STANDARD
BEGIN:DAYLIGHT
TZOFFSETFROM:+0000
TZOFFSETTO:+0100
TZNAME:BST
DTSTART:20250330T010000
END:DAYLIGHT
BEGIN:STANDARD
TZOFFSETFROM:+0100
TZOFFSETTO:+0000
TZNAME:GMT
DTSTART:20251026T010000
END:STANDARD
BEGIN:DAYLIGHT
TZOFFSETFROM:+0000
TZOFFSETTO:+0100
TZNAME:BST
DTSTART:20260329T010000
END:DAYLIGHT
BEGIN:STANDARD
TZOFFSETFROM:+0100
TZOFFSETTO:+0000
TZNAME:GMT
DTSTART:20261025T010000
END:STANDARD
END:VTIMEZONE
BEGIN:VEVENT
DTSTART;TZID=Europe/London:20250403T193000
DTEND;TZID=Europe/London:20250403T210000
DTSTAMP:20260423T144121
CREATED:20250102T110305Z
LAST-MODIFIED:20250102T110305Z
UID:2406-1743708600-1743714000@phab-leamington.co.uk
SUMMARY:Karaoke night
DESCRIPTION:Yes folks…. its that time again \nYou are the star tonight (we hope)
URL:https://phab-leamington.co.uk/event/karaoke-night-5/
LOCATION:Warwick Space\, 71 Coten End\, Warwick\, Warwickshire\, CV34 4NU\, United Kingdom
ATTACH;FMTTYPE=image/jpeg:https://phab-leamington.co.uk/wp-content/uploads/2019/11/Karaoke.jpg
END:VEVENT
BEGIN:VEVENT
DTSTART;TZID=Europe/London:20250410T193000
DTEND;TZID=Europe/London:20250410T210000
DTSTAMP:20260423T144121
CREATED:20250102T110356Z
LAST-MODIFIED:20250102T110356Z
UID:2408-1744313400-1744318800@phab-leamington.co.uk
SUMMARY:Club Night
DESCRIPTION:Tonight is a Club Night
URL:https://phab-leamington.co.uk/event/club-night-38/
LOCATION:Warwick Space\, 71 Coten End\, Warwick\, Warwickshire\, CV34 4NU\, United Kingdom
ATTACH;FMTTYPE=image/png:https://phab-leamington.co.uk/wp-content/uploads/2023/06/white-on-blue-circle-digital_.png
END:VEVENT
BEGIN:VEVENT
DTSTART;TZID=Europe/London:20250417T193000
DTEND;TZID=Europe/London:20250417T210000
DTSTAMP:20260423T144121
CREATED:20250102T110515Z
LAST-MODIFIED:20250102T110515Z
UID:2410-1744918200-1744923600@phab-leamington.co.uk
SUMMARY:Easter Egg Competition
DESCRIPTION:Tonight we have the annual Easter Egg competition – best design wins a prize !!!
URL:https://phab-leamington.co.uk/event/easter-egg-competition/
LOCATION:Warwick Space\, 71 Coten End\, Warwick\, Warwickshire\, CV34 4NU\, United Kingdom
ATTACH;FMTTYPE=image/jpeg:https://phab-leamington.co.uk/wp-content/uploads/2019/02/Easter-Bunny.jpg
END:VEVENT
BEGIN:VEVENT
DTSTART;TZID=Europe/London:20250424T193000
DTEND;TZID=Europe/London:20250424T210000
DTSTAMP:20260423T144121
CREATED:20250102T110655Z
LAST-MODIFIED:20250102T110655Z
UID:2412-1745523000-1745528400@phab-leamington.co.uk
SUMMARY:Meal Out at the Windmill
DESCRIPTION:Tonight we are the Windmill for our meal out \nFabulous food and company is guaranteed..
URL:https://phab-leamington.co.uk/event/meal-out-at-the-windmill-4/
LOCATION:The Windmill Inn\, Tachbrook Road\, Leamington Spa\, Warwickshire\, CV31 3DD\, United Kingdom
ATTACH;FMTTYPE=image/jpeg:https://phab-leamington.co.uk/wp-content/uploads/2019/03/Macarons.jpeg
END:VEVENT
END:VCALENDAR