BEGIN:VCALENDAR
VERSION:2.0
PRODID:-//Leamington - ECPv6.15.15//NONSGML v1.0//EN
CALSCALE:GREGORIAN
METHOD:PUBLISH
X-WR-CALNAME:Leamington
X-ORIGINAL-URL:https://phab-leamington.co.uk
X-WR-CALDESC:Events for Leamington
REFRESH-INTERVAL;VALUE=DURATION:PT1H
X-Robots-Tag:noindex
X-PUBLISHED-TTL:PT1H
BEGIN:VTIMEZONE
TZID:Europe/London
BEGIN:DAYLIGHT
TZOFFSETFROM:+0000
TZOFFSETTO:+0100
TZNAME:BST
DTSTART:20240331T010000
END:DAYLIGHT
BEGIN:STANDARD
TZOFFSETFROM:+0100
TZOFFSETTO:+0000
TZNAME:GMT
DTSTART:20241027T010000
END:STANDARD
BEGIN:DAYLIGHT
TZOFFSETFROM:+0000
TZOFFSETTO:+0100
TZNAME:BST
DTSTART:20250330T010000
END:DAYLIGHT
BEGIN:STANDARD
TZOFFSETFROM:+0100
TZOFFSETTO:+0000
TZNAME:GMT
DTSTART:20251026T010000
END:STANDARD
BEGIN:DAYLIGHT
TZOFFSETFROM:+0000
TZOFFSETTO:+0100
TZNAME:BST
DTSTART:20260329T010000
END:DAYLIGHT
BEGIN:STANDARD
TZOFFSETFROM:+0100
TZOFFSETTO:+0000
TZNAME:GMT
DTSTART:20261025T010000
END:STANDARD
END:VTIMEZONE
BEGIN:VEVENT
DTSTART;TZID=Europe/London:20250501T193000
DTEND;TZID=Europe/London:20250501T213000
DTSTAMP:20260422T192443
CREATED:20250311T075727Z
LAST-MODIFIED:20250311T075727Z
UID:2479-1746127800-1746135000@phab-leamington.co.uk
SUMMARY:Ten Pin Bowling
DESCRIPTION:This evening we are back at Leamington Ten Pin\, lets see how the teams do this time… it is looking like we may have some competition going on ….
URL:https://phab-leamington.co.uk/event/ten-pin-bowling-6/
LOCATION:Tenpin Bowling\, Shires Retail Park\, Tachbrook Park Drive\, Leamington Spa\, Warwickshire\, CV34 6RH\, United Kingdom
ATTACH;FMTTYPE=image/jpeg:https://phab-leamington.co.uk/wp-content/uploads/2019/03/Bowling.jpg
END:VEVENT
BEGIN:VEVENT
DTSTART;TZID=Europe/London:20250508T193000
DTEND;TZID=Europe/London:20250710T213000
DTSTAMP:20260422T192443
CREATED:20250311T075853Z
LAST-MODIFIED:20250311T075853Z
UID:2481-1746732600-1752183000@phab-leamington.co.uk
SUMMARY:Club Night
DESCRIPTION:Tonight is a club night\, good chat\, great people and maybe some games… who knows
URL:https://phab-leamington.co.uk/event/club-night-39/
LOCATION:Warwick Space\, 71 Coten End\, Warwick\, Warwickshire\, CV34 4NU\, United Kingdom
ATTACH;FMTTYPE=image/jpeg:https://phab-leamington.co.uk/wp-content/uploads/2024/08/Phab-Leamington-50th-logo-digital-e1735813964298.jpg
END:VEVENT
BEGIN:VEVENT
DTSTART;TZID=Europe/London:20250515T193000
DTEND;TZID=Europe/London:20250515T213000
DTSTAMP:20260422T192443
CREATED:20250311T080124Z
LAST-MODIFIED:20250311T080124Z
UID:2483-1747337400-1747344600@phab-leamington.co.uk
SUMMARY:Race Night
DESCRIPTION:Bring your pennies\, it’s race night…. \nwho will win the tote !!!
URL:https://phab-leamington.co.uk/event/race-night-8/
LOCATION:Warwick Space\, 71 Coten End\, Warwick\, Warwickshire\, CV34 4NU\, United Kingdom
ATTACH;FMTTYPE=image/jpeg:https://phab-leamington.co.uk/wp-content/uploads/2019/03/Games-Night.jpg
END:VEVENT
BEGIN:VEVENT
DTSTART;TZID=Europe/London:20250522T193000
DTEND;TZID=Europe/London:20250522T213000
DTSTAMP:20260422T192443
CREATED:20250311T080245Z
LAST-MODIFIED:20250311T080245Z
UID:2485-1747942200-1747949400@phab-leamington.co.uk
SUMMARY:Meal Out at The Racehorse
DESCRIPTION:Tonight we are at the Racehorse in Warwick for our meal out
URL:https://phab-leamington.co.uk/event/meal-out-at-the-racehorse-2/
LOCATION:The Racehorse in Warwick\, 34 STratford Road\, Warwick\, Warwickshire\, CV34 6AS\, United Kingdom
ATTACH;FMTTYPE=image/jpeg:https://phab-leamington.co.uk/wp-content/uploads/2019/03/Macarons.jpeg
END:VEVENT
BEGIN:VEVENT
DTSTART;TZID=Europe/London:20250529T193000
DTEND;TZID=Europe/London:20250529T213000
DTSTAMP:20260422T192443
CREATED:20250311T080518Z
LAST-MODIFIED:20250508T195242Z
UID:2487-1748547000-1748554200@phab-leamington.co.uk
SUMMARY:Bingo & Race Night
DESCRIPTION:Yes\, it’s dual activity night. \n\nBingo Night\, eyes down for the prizes …\nRace Night – Bring your pennies …\n\n 
URL:https://phab-leamington.co.uk/event/bingio-night/
LOCATION:Warwick Space\, 71 Coten End\, Warwick\, Warwickshire\, CV34 4NU\, United Kingdom
ATTACH;FMTTYPE=image/png:https://phab-leamington.co.uk/wp-content/uploads/2019/04/Bingo-2.png
END:VEVENT
END:VCALENDAR