BEGIN:VCALENDAR
VERSION:2.0
PRODID:-//Leamington - ECPv6.15.15//NONSGML v1.0//EN
CALSCALE:GREGORIAN
METHOD:PUBLISH
X-ORIGINAL-URL:https://phab-leamington.co.uk
X-WR-CALDESC:Events for Leamington
REFRESH-INTERVAL;VALUE=DURATION:PT1H
X-Robots-Tag:noindex
X-PUBLISHED-TTL:PT1H
BEGIN:VTIMEZONE
TZID:Europe/London
BEGIN:DAYLIGHT
TZOFFSETFROM:+0000
TZOFFSETTO:+0100
TZNAME:BST
DTSTART:20240331T010000
END:DAYLIGHT
BEGIN:STANDARD
TZOFFSETFROM:+0100
TZOFFSETTO:+0000
TZNAME:GMT
DTSTART:20241027T010000
END:STANDARD
BEGIN:DAYLIGHT
TZOFFSETFROM:+0000
TZOFFSETTO:+0100
TZNAME:BST
DTSTART:20250330T010000
END:DAYLIGHT
BEGIN:STANDARD
TZOFFSETFROM:+0100
TZOFFSETTO:+0000
TZNAME:GMT
DTSTART:20251026T010000
END:STANDARD
BEGIN:DAYLIGHT
TZOFFSETFROM:+0000
TZOFFSETTO:+0100
TZNAME:BST
DTSTART:20260329T010000
END:DAYLIGHT
BEGIN:STANDARD
TZOFFSETFROM:+0100
TZOFFSETTO:+0000
TZNAME:GMT
DTSTART:20261025T010000
END:STANDARD
END:VTIMEZONE
BEGIN:VEVENT
DTSTART;TZID=Europe/London:20250508T193000
DTEND;TZID=Europe/London:20250710T213000
DTSTAMP:20260422T152331
CREATED:20250311T075853Z
LAST-MODIFIED:20250311T075853Z
UID:2481-1746732600-1752183000@phab-leamington.co.uk
SUMMARY:Club Night
DESCRIPTION:Tonight is a club night\, good chat\, great people and maybe some games… who knows
URL:https://phab-leamington.co.uk/event/club-night-39/
LOCATION:Warwick Space\, 71 Coten End\, Warwick\, Warwickshire\, CV34 4NU\, United Kingdom
ATTACH;FMTTYPE=image/jpeg:https://phab-leamington.co.uk/wp-content/uploads/2024/08/Phab-Leamington-50th-logo-digital-e1735813964298.jpg
END:VEVENT
BEGIN:VEVENT
DTSTART;TZID=Europe/London:20250605T193000
DTEND;TZID=Europe/London:20250605T213000
DTSTAMP:20260422T152331
CREATED:20250311T080641Z
LAST-MODIFIED:20250604T115822Z
UID:2490-1749151800-1749159000@phab-leamington.co.uk
SUMMARY:Quiz Night
DESCRIPTION:Tonight it’s the Quiz by Jane
URL:https://phab-leamington.co.uk/event/quiz-night-7/
LOCATION:Warwick Space\, 71 Coten End\, Warwick\, Warwickshire\, CV34 4NU\, United Kingdom
ATTACH;FMTTYPE=image/jpeg:https://phab-leamington.co.uk/wp-content/uploads/2019/05/Quiz.jpg
END:VEVENT
BEGIN:VEVENT
DTSTART;TZID=Europe/London:20250612T193000
DTEND;TZID=Europe/London:20250612T213000
DTSTAMP:20260422T152331
CREATED:20250311T080823Z
LAST-MODIFIED:20250311T080823Z
UID:2492-1749756600-1749763800@phab-leamington.co.uk
SUMMARY:Treasure Hunt
DESCRIPTION:This evening (weather permitting) will be the annual Treasure Hunt. \nThere will be clues and all you have to do is find the answers…. \nGood Luck !
URL:https://phab-leamington.co.uk/event/treasure-hunt-5/
LOCATION:Warwick Space\, 71 Coten End\, Warwick\, Warwickshire\, CV34 4NU\, United Kingdom
ATTACH;FMTTYPE=image/jpeg:https://phab-leamington.co.uk/wp-content/uploads/2019/07/Treasure-hunt.jpg
END:VEVENT
BEGIN:VEVENT
DTSTART;TZID=Europe/London:20250619T193000
DTEND;TZID=Europe/London:20250619T213000
DTSTAMP:20260422T152331
CREATED:20250311T080956Z
LAST-MODIFIED:20250311T080956Z
UID:2494-1750361400-1750368600@phab-leamington.co.uk
SUMMARY:Meal Out at The Rugby Tavern
DESCRIPTION:Tonight\, we are at the Rugby Tavern for the meal out.
URL:https://phab-leamington.co.uk/event/meal-out-at-the-rugby-tavern-6/
LOCATION:The Rugby Tavern\, 24 Rugby Road\, Leamington Spa\, Warwickshire\, CV32 7JE\, United Kingdom
ATTACH;FMTTYPE=image/jpeg:https://phab-leamington.co.uk/wp-content/uploads/2019/03/Macarons.jpeg
END:VEVENT
BEGIN:VEVENT
DTSTART;TZID=Europe/London:20250626T193000
DTEND;TZID=Europe/London:20250626T213000
DTSTAMP:20260422T152331
CREATED:20250311T081159Z
LAST-MODIFIED:20250311T081159Z
UID:2496-1750966200-1750973400@phab-leamington.co.uk
SUMMARY:Games Night
DESCRIPTION:This evening we have a games night\, and chat (quite a lot of both )
URL:https://phab-leamington.co.uk/event/games-night-6/
LOCATION:Warwick Space\, 71 Coten End\, Warwick\, Warwickshire\, CV34 4NU\, United Kingdom
ATTACH;FMTTYPE=image/jpeg:https://phab-leamington.co.uk/wp-content/uploads/2019/03/Games-Night.jpg
END:VEVENT
BEGIN:VEVENT
DTSTART;TZID=Europe/London:20250629T093000
DTEND;TZID=Europe/London:20250629T170000
DTSTAMP:20260422T152331
CREATED:20250311T081450Z
LAST-MODIFIED:20250501T143537Z
UID:2498-1751189400-1751216400@phab-leamington.co.uk
SUMMARY:Wicksteed Park
DESCRIPTION:Today we are at Wicksteed Park. \nThis is part of our 50th celebrations and there may also be other Phab Clubs coming along and meeting us there\, as well as Mik and dawn from Head Office – lets see…. \nPlans are being made\, and we plan to arrive at Wicksteed park at about 10:30 – so we will meet up at Wellesbourne to hop into the Minibus at about 09:00 to get an early start to set up… \nWe will be looking to finalise the Minibus seating by the 15th of May \n 
URL:https://phab-leamington.co.uk/event/wicksteed-park-2/
LOCATION:Wicksteed Park\, Barton Rd\, Kettering\, Northampton\, NN15 6NJ
ATTACH;FMTTYPE=image/jpeg:https://phab-leamington.co.uk/wp-content/uploads/2019/06/Wicksteed-Train.jpg
END:VEVENT
END:VCALENDAR