BEGIN:VCALENDAR
VERSION:2.0
PRODID:-//Leamington - ECPv6.15.15//NONSGML v1.0//EN
CALSCALE:GREGORIAN
METHOD:PUBLISH
X-ORIGINAL-URL:https://phab-leamington.co.uk
X-WR-CALDESC:Events for Leamington
REFRESH-INTERVAL;VALUE=DURATION:PT1H
X-Robots-Tag:noindex
X-PUBLISHED-TTL:PT1H
BEGIN:VTIMEZONE
TZID:Europe/London
BEGIN:DAYLIGHT
TZOFFSETFROM:+0000
TZOFFSETTO:+0100
TZNAME:BST
DTSTART:20240331T010000
END:DAYLIGHT
BEGIN:STANDARD
TZOFFSETFROM:+0100
TZOFFSETTO:+0000
TZNAME:GMT
DTSTART:20241027T010000
END:STANDARD
BEGIN:DAYLIGHT
TZOFFSETFROM:+0000
TZOFFSETTO:+0100
TZNAME:BST
DTSTART:20250330T010000
END:DAYLIGHT
BEGIN:STANDARD
TZOFFSETFROM:+0100
TZOFFSETTO:+0000
TZNAME:GMT
DTSTART:20251026T010000
END:STANDARD
BEGIN:DAYLIGHT
TZOFFSETFROM:+0000
TZOFFSETTO:+0100
TZNAME:BST
DTSTART:20260329T010000
END:DAYLIGHT
BEGIN:STANDARD
TZOFFSETFROM:+0100
TZOFFSETTO:+0000
TZNAME:GMT
DTSTART:20261025T010000
END:STANDARD
END:VTIMEZONE
BEGIN:VEVENT
DTSTART;TZID=Europe/London:20250911T193000
DTEND;TZID=Europe/London:20250911T213000
DTSTAMP:20260422T144002
CREATED:20250612T125933Z
LAST-MODIFIED:20250612T130127Z
UID:2545-1757619000-1757626200@phab-leamington.co.uk
SUMMARY:Club Night
DESCRIPTION:First Club Night after the summer break.
URL:https://phab-leamington.co.uk/event/club-night-43/
LOCATION:Warwick Space\, 71 Coten End\, Warwick\, Warwickshire\, CV34 4NU\, United Kingdom
ATTACH;FMTTYPE=image/jpeg:https://phab-leamington.co.uk/wp-content/uploads/2024/08/Phab-Leamington-50th-logo-digital-e1735813964298.jpg
END:VEVENT
BEGIN:VEVENT
DTSTART;TZID=Europe/London:20250918T193000
DTEND;TZID=Europe/London:20250918T213000
DTSTAMP:20260422T144002
CREATED:20250612T130040Z
LAST-MODIFIED:20250612T130040Z
UID:2547-1758223800-1758231000@phab-leamington.co.uk
SUMMARY:AGM and Hoy Night
DESCRIPTION:The Annual General Meeting is tonight\, followed by Hoy
URL:https://phab-leamington.co.uk/event/agm-and-hoy-night/
LOCATION:Warwick Space\, 71 Coten End\, Warwick\, Warwickshire\, CV34 4NU\, United Kingdom
ATTACH;FMTTYPE=image/jpeg:https://phab-leamington.co.uk/wp-content/uploads/2024/08/Phab-Leamington-50th-logo-digital-e1735813964298.jpg
END:VEVENT
BEGIN:VEVENT
DTSTART;TZID=Europe/London:20250925T193000
DTEND;TZID=Europe/London:20250925T213000
DTSTAMP:20260422T144002
CREATED:20250612T130319Z
LAST-MODIFIED:20250612T130319Z
UID:2549-1758828600-1758835800@phab-leamington.co.uk
SUMMARY:Club Night - Karaoke
DESCRIPTION:This evening is a karaoke night =- bring your singing voices …
URL:https://phab-leamington.co.uk/event/club-night-karaoke-2/
LOCATION:Warwick Space\, 71 Coten End\, Warwick\, Warwickshire\, CV34 4NU\, United Kingdom
ATTACH;FMTTYPE=image/jpeg:https://phab-leamington.co.uk/wp-content/uploads/2019/11/Karaoke.jpg
END:VEVENT
END:VCALENDAR