BEGIN:VCALENDAR
VERSION:2.0
PRODID:-//Leamington - ECPv6.15.15//NONSGML v1.0//EN
CALSCALE:GREGORIAN
METHOD:PUBLISH
X-ORIGINAL-URL:https://phab-leamington.co.uk
X-WR-CALDESC:Events for Leamington
REFRESH-INTERVAL;VALUE=DURATION:PT1H
X-Robots-Tag:noindex
X-PUBLISHED-TTL:PT1H
BEGIN:VTIMEZONE
TZID:Europe/London
BEGIN:DAYLIGHT
TZOFFSETFROM:+0000
TZOFFSETTO:+0100
TZNAME:BST
DTSTART:20250330T010000
END:DAYLIGHT
BEGIN:STANDARD
TZOFFSETFROM:+0100
TZOFFSETTO:+0000
TZNAME:GMT
DTSTART:20251026T010000
END:STANDARD
BEGIN:DAYLIGHT
TZOFFSETFROM:+0000
TZOFFSETTO:+0100
TZNAME:BST
DTSTART:20260329T010000
END:DAYLIGHT
BEGIN:STANDARD
TZOFFSETFROM:+0100
TZOFFSETTO:+0000
TZNAME:GMT
DTSTART:20261025T010000
END:STANDARD
BEGIN:DAYLIGHT
TZOFFSETFROM:+0000
TZOFFSETTO:+0100
TZNAME:BST
DTSTART:20270328T010000
END:DAYLIGHT
BEGIN:STANDARD
TZOFFSETFROM:+0100
TZOFFSETTO:+0000
TZNAME:GMT
DTSTART:20271031T010000
END:STANDARD
END:VTIMEZONE
BEGIN:VEVENT
DTSTART;TZID=Europe/London:20260305T193000
DTEND;TZID=Europe/London:20260305T213000
DTSTAMP:20260422T223631
CREATED:20251203T144449Z
LAST-MODIFIED:20251203T144449Z
UID:2612-1772739000-1772746200@phab-leamington.co.uk
SUMMARY:Race Night
DESCRIPTION:pennies at the ready…. plaace your bets ladies and gents …
URL:https://phab-leamington.co.uk/event/race-night-9/
LOCATION:Warwick Space\, 71 Coten End\, Warwick\, Warwickshire\, CV34 4NU\, United Kingdom
ATTACH;FMTTYPE=image/jpeg:https://phab-leamington.co.uk/wp-content/uploads/2019/03/Games-Night.jpg
END:VEVENT
BEGIN:VEVENT
DTSTART;TZID=Europe/London:20260312T193000
DTEND;TZID=Europe/London:20260312T213000
DTSTAMP:20260422T223631
CREATED:20251203T144800Z
LAST-MODIFIED:20251203T144800Z
UID:2614-1773343800-1773351000@phab-leamington.co.uk
SUMMARY:Club Night
DESCRIPTION:Tonight is a club night\, time for a chat and maybe a few games ?
URL:https://phab-leamington.co.uk/event/club-night-46/
LOCATION:Warwick Space\, 71 Coten End\, Warwick\, Warwickshire\, CV34 4NU\, United Kingdom
ATTACH;FMTTYPE=image/png:https://phab-leamington.co.uk/wp-content/uploads/2023/06/logo-blue-digital-e1693410277497.png
END:VEVENT
BEGIN:VEVENT
DTSTART;TZID=Europe/London:20260314T080000
DTEND;TZID=Europe/London:20260314T170000
DTSTAMP:20260422T223631
CREATED:20260212T105910Z
LAST-MODIFIED:20260212T110040Z
UID:2677-1773475200-1773507600@phab-leamington.co.uk
SUMMARY:Collection at Tesco's Warwick
DESCRIPTION:Today we are at Tesco’s in Warwick collecting for the charity. \nCome along and say hello (and donate if you wish) \n 
URL:https://phab-leamington.co.uk/event/collection-at-tescos-warwick/
LOCATION:Tesco’s Superstore Warwick\, Emscote Road\, Warwick\, Warwickshire\, CV34 5QJ\, United Kingdom
ATTACH;FMTTYPE=image/png:https://phab-leamington.co.uk/wp-content/uploads/2023/06/logo-blue-digital-e1693410277497.png
END:VEVENT
BEGIN:VEVENT
DTSTART;TZID=Europe/London:20260319T193000
DTEND;TZID=Europe/London:20260319T213000
DTSTAMP:20260422T223631
CREATED:20251203T144936Z
LAST-MODIFIED:20260212T121224Z
UID:2616-1773948600-1773955800@phab-leamington.co.uk
SUMMARY:Warwick Tap
DESCRIPTION:Tonight Warwick tap are going to grace our stage with an evening of Tap and fun
URL:https://phab-leamington.co.uk/event/hoy-night-4/
LOCATION:Warwick Space\, 71 Coten End\, Warwick\, Warwickshire\, CV34 4NU\, United Kingdom
ATTACH;FMTTYPE=image/png:https://phab-leamington.co.uk/wp-content/uploads/2022/07/Tap.png
END:VEVENT
BEGIN:VEVENT
DTSTART;TZID=Europe/London:20260326T193000
DTEND;TZID=Europe/London:20260326T213000
DTSTAMP:20260422T223631
CREATED:20251203T145050Z
LAST-MODIFIED:20251203T145050Z
UID:2618-1774553400-1774560600@phab-leamington.co.uk
SUMMARY:Meal Out – The Windmill
DESCRIPTION:This evening we are at our favourite pub – the Windmill
URL:https://phab-leamington.co.uk/event/meal-out-the-windmill-2/
LOCATION:The Windmill Inn\, Tachbrook Road\, Leamington Spa\, Warwickshire\, CV31 3DD\, United Kingdom
ATTACH;FMTTYPE=image/jpeg:https://phab-leamington.co.uk/wp-content/uploads/2019/03/Macarons.jpeg
END:VEVENT
END:VCALENDAR