BEGIN:VCALENDAR
VERSION:2.0
PRODID:-//Leamington - ECPv6.15.15//NONSGML v1.0//EN
CALSCALE:GREGORIAN
METHOD:PUBLISH
X-ORIGINAL-URL:https://phab-leamington.co.uk
X-WR-CALDESC:Events for Leamington
REFRESH-INTERVAL;VALUE=DURATION:PT1H
X-Robots-Tag:noindex
X-PUBLISHED-TTL:PT1H
BEGIN:VTIMEZONE
TZID:Europe/London
BEGIN:DAYLIGHT
TZOFFSETFROM:+0000
TZOFFSETTO:+0100
TZNAME:BST
DTSTART:20250330T010000
END:DAYLIGHT
BEGIN:STANDARD
TZOFFSETFROM:+0100
TZOFFSETTO:+0000
TZNAME:GMT
DTSTART:20251026T010000
END:STANDARD
BEGIN:DAYLIGHT
TZOFFSETFROM:+0000
TZOFFSETTO:+0100
TZNAME:BST
DTSTART:20260329T010000
END:DAYLIGHT
BEGIN:STANDARD
TZOFFSETFROM:+0100
TZOFFSETTO:+0000
TZNAME:GMT
DTSTART:20261025T010000
END:STANDARD
BEGIN:DAYLIGHT
TZOFFSETFROM:+0000
TZOFFSETTO:+0100
TZNAME:BST
DTSTART:20270328T010000
END:DAYLIGHT
BEGIN:STANDARD
TZOFFSETFROM:+0100
TZOFFSETTO:+0000
TZNAME:GMT
DTSTART:20271031T010000
END:STANDARD
END:VTIMEZONE
BEGIN:VEVENT
DTSTART;TZID=Europe/London:20260507T193000
DTEND;TZID=Europe/London:20260507T213000
DTSTAMP:20260422T173804
CREATED:20251203T145807Z
LAST-MODIFIED:20251203T145807Z
UID:2630-1778182200-1778189400@phab-leamington.co.uk
SUMMARY:Treasure Hunt
DESCRIPTION:The weather is (hopefully) getting better\, so this evening we are having a treasure hunt
URL:https://phab-leamington.co.uk/event/treasure-hunt-6/
LOCATION:Warwick Space\, 71 Coten End\, Warwick\, Warwickshire\, CV34 4NU\, United Kingdom
ATTACH;FMTTYPE=image/jpeg:https://phab-leamington.co.uk/wp-content/uploads/2019/07/Treasure-hunt.jpg
END:VEVENT
BEGIN:VEVENT
DTSTART;TZID=Europe/London:20260514T193000
DTEND;TZID=Europe/London:20260514T213000
DTSTAMP:20260422T173804
CREATED:20251203T145915Z
LAST-MODIFIED:20251203T145915Z
UID:2632-1778787000-1778794200@phab-leamington.co.uk
SUMMARY:Club Night
DESCRIPTION:Tonight is a club night
URL:https://phab-leamington.co.uk/event/club-night-48/
LOCATION:Warwick Space\, 71 Coten End\, Warwick\, Warwickshire\, CV34 4NU\, United Kingdom
ATTACH;FMTTYPE=image/png:https://phab-leamington.co.uk/wp-content/uploads/2023/06/logo-blue-digital-e1693410277497.png
END:VEVENT
BEGIN:VEVENT
DTSTART;TZID=Europe/London:20260521T193000
DTEND;TZID=Europe/London:20260521T213000
DTSTAMP:20260422T173804
CREATED:20251203T150012Z
LAST-MODIFIED:20251203T150012Z
UID:2634-1779391800-1779399000@phab-leamington.co.uk
SUMMARY:Quiz – General Knowledge
DESCRIPTION:Quiz night… this time it is  a general knowlege one
URL:https://phab-leamington.co.uk/event/quiz-general-knowledge/
LOCATION:Warwick Space\, 71 Coten End\, Warwick\, Warwickshire\, CV34 4NU\, United Kingdom
ATTACH;FMTTYPE=image/jpeg:https://phab-leamington.co.uk/wp-content/uploads/2019/05/Quiz.jpg
END:VEVENT
BEGIN:VEVENT
DTSTART;TZID=Europe/London:20260528T080000
DTEND;TZID=Europe/London:20260528T170000
DTSTAMP:20260422T173804
CREATED:20251203T150107Z
LAST-MODIFIED:20251203T150107Z
UID:2636-1779955200-1779987600@phab-leamington.co.uk
SUMMARY:Meal Out – The Rugby Tavern
DESCRIPTION:This evening we are at the Rugby tavern for a meal
URL:https://phab-leamington.co.uk/event/meal-out-the-rugby-tavern/
LOCATION:The Rugby Tavern\, 24 Rugby Road\, Leamington Spa\, Warwickshire\, CV32 7JE\, United Kingdom
ATTACH;FMTTYPE=image/jpeg:https://phab-leamington.co.uk/wp-content/uploads/2019/03/Macarons.jpeg
END:VEVENT
END:VCALENDAR